BEGIN:VCALENDAR
VERSION:2.0
PRODID:-//Tukios.com/
BEGIN:VEVENT
UID:7f5e1b39-1a11-4881-b2f5-652227dd048d@www.cremationsocietyofsc.com
DTSTAMP:20260426T041935Z
DTSTART:20260523T180000Z
DTEND:20260523T190000Z
SUMMARY:Memorial Service
DESCRIPTION:
URL:https://www.cremationsocietyofsc.com/obituaries/daisy-lindsey
LOCATION:Central Church 5301 Sardis Road  Charlotte NC 28270
GEO:35.1602795;-80.7888432
END:VEVENT
END:VCALENDAR