BEGIN:VCALENDAR
VERSION:2.0
PRODID:-//Tukios.com/
BEGIN:VEVENT
UID:c48e71d5-03de-42c0-a964-375d11c0160d@www.cremationsocietyofsc.com
DTSTAMP:20260421T184128Z
DTSTART:20260425T150000Z
DTEND:20260425T160000Z
SUMMARY:Memorial Service
DESCRIPTION:
URL:https://www.cremationsocietyofsc.com/obituaries/janie-arlene-mcdonald
LOCATION:Cremation Society of South Carolina - Westville Funerals 6010 
	White Horse Road  Greenville SC 29611
GEO:34.849403;-82.4475717
END:VEVENT
END:VCALENDAR