BEGIN:VCALENDAR
VERSION:2.0
PRODID:-//Tukios.com/
BEGIN:VEVENT
UID:a9a823df-72d1-41af-97aa-eb62654e877d@www.cremationsocietyofsc.com
DTSTAMP:20260421T210707Z
DTSTART:20260507T153000Z
DTEND:20260507T163000Z
SUMMARY:Funeral Service
DESCRIPTION:
URL:https://www.cremationsocietyofsc.com/obituaries/paul-mcgahee-jr
LOCATION:First Presbyterian Church 200 West Washington Street  Greenville 
	SC 29601
GEO:34.8517236;-82.4009992
END:VEVENT
END:VCALENDAR